BEGIN:VCALENDAR
VERSION:2.0
PRODID:-//Sundgo2//NONSGML kigkonsult.se iCalcreator 2.30.10//
CALSCALE:GREGORIAN
METHOD:PUBLISH
UID:2d5d0e70-a19c-4d4b-aa4f-e4f866bd0fcf
X-WR-CALNAME:iCagenda
X-WR-CALDESC:Event Management Extension for Joomla!
X-WR-RELCALID:3E26604A-50F4-4449-8B3E-E4F4932D05B5
X-WR-TIMEZONE:Europe/Paris
BEGIN:VTIMEZONE
TZID:Europe/Paris
BEGIN:STANDARD
TZNAME:CET
DTSTART:20241027T030000
TZOFFSETFROM:+0200
TZOFFSETTO:+0100
RDATE:20251026T030000
RDATE:20261025T030000
END:STANDARD
BEGIN:DAYLIGHT
TZNAME:CEST
DTSTART:20250330T020000
TZOFFSETFROM:+0100
TZOFFSETTO:+0200
RDATE:20260329T020000
RDATE:20270328T020000
END:DAYLIGHT
END:VTIMEZONE
BEGIN:VEVENT
UID:1c46635e-c24a-4d7f-8277-da4c04fb7f1d
DTSTAMP:20260424T033653Z
CATEGORIES:Marche Nordique Prescri'Mouv
CLASS:PUBLIC
DESCRIPTION;ALTREP="CID:<FFFF__=0ABBE548DFE235B58f9e8a93d@coffeebean.com>":
 Initiation et marche santé\n
DTSTART:20251006T063000Z
DTEND:20251006T063000Z
GEO:00;0
LOCATION:Départ de FALKWILLER
ORGANIZER;CN=:fabrice.puglisi@sfr.fr
SEQUENCE:1
SUMMARY:MARCHE NORDIQUE SANTÉ-DÉCOUVERTE PRESCRI'MOUV - INSCRIPTIONS SUR LE
  CALENDRIER
TRANSP:OPAQUE
URL:https://sundgo2.fr/index.php/component/icagenda/265-marche-nordique-san
 te-decouverte/2025-10-06-08-30
END:VEVENT
END:VCALENDAR
