BEGIN:VCALENDAR
VERSION:2.0
PRODID:-//Sundgo2//NONSGML kigkonsult.se iCalcreator 2.30.10//
CALSCALE:GREGORIAN
METHOD:PUBLISH
UID:b73c43d2-becb-4593-b9cd-d5d0fbd25a6b
X-WR-CALNAME:iCagenda
X-WR-CALDESC:Event Management Extension for Joomla!
X-WR-RELCALID:3E26604A-50F4-4449-8B3E-E4F4932D05B5
X-WR-TIMEZONE:Europe/Paris
BEGIN:VTIMEZONE
TZID:Europe/Paris
BEGIN:STANDARD
TZNAME:CET
DTSTART:20231029T030000
TZOFFSETFROM:+0200
TZOFFSETTO:+0100
RDATE:20241027T030000
RDATE:20251026T030000
END:STANDARD
BEGIN:DAYLIGHT
TZNAME:CEST
DTSTART:20240331T020000
TZOFFSETFROM:+0100
TZOFFSETTO:+0200
RDATE:20250330T020000
END:DAYLIGHT
END:VTIMEZONE
BEGIN:VEVENT
UID:687c594e-95c6-4191-8f3d-ef0fb0858774
DTSTAMP:20260425T002750Z
CATEGORIES:MN/CAP Compétition
CLASS:PUBLIC
DESCRIPTION:
DTSTART:20240428T073000Z
DTEND:20240428T073000Z
GEO:+48.158749;+7.325609
LOCATION:BEBLENHEIM
ORGANIZER:
SEQUENCE:1
SUMMARY:LES PERLES DU VIGNOBLE - LA RONDE DU SONNENGLANZ (10 km - 270mD+ dé
 part 9 h 30)  LES PERLES DU VIGNOBLE (16 km - 400mD+ départ 9 h 45)  LE TR
 AIL DES PERLES (25 km - 700mD+ départ 9 h 45)
TRANSP:OPAQUE
URL:https://sundgo2.fr/index.php/component/icagenda/320-runin-night-trail-1
 4-km-et-31-6-km-2/2024-04-28-09-30
END:VEVENT
END:VCALENDAR
