BEGIN:VCALENDAR
VERSION:2.0
PRODID:-//Sundgo2//NONSGML kigkonsult.se iCalcreator 2.30.10//
CALSCALE:GREGORIAN
METHOD:PUBLISH
UID:89903ca1-d386-4727-917f-ec2061d8a1cf
X-WR-CALNAME:iCagenda
X-WR-CALDESC:Event Management Extension for Joomla!
X-WR-RELCALID:3E26604A-50F4-4449-8B3E-E4F4932D05B5
X-WR-TIMEZONE:Europe/Paris
BEGIN:VTIMEZONE
TZID:Europe/Paris
BEGIN:STANDARD
TZNAME:CET
DTSTART:20241027T030000
TZOFFSETFROM:+0200
TZOFFSETTO:+0100
RDATE:20251026T030000
END:STANDARD
BEGIN:DAYLIGHT
TZNAME:CEST
DTSTART:20240331T020000
TZOFFSETFROM:+0100
TZOFFSETTO:+0200
RDATE:20250330T020000
RDATE:20260329T020000
END:DAYLIGHT
END:VTIMEZONE
BEGIN:VEVENT
UID:b66def0d-5a58-4f25-86e2-d5d7a8cb551e
DTSTAMP:20260425T204536Z
CATEGORIES:Marche Nordique
CLASS:PUBLIC
DESCRIPTION:
DTSTART:20250207T140000Z
DTEND:20250207T140000Z
GEO:00;0
LOCATION:
ORGANIZER:
SEQUENCE:1
SUMMARY:MARCHE NORDIQUE À LA CARTE  - À DÉFINIR
TRANSP:OPAQUE
URL:https://sundgo2.fr/index.php/component/icagenda/328-marche-nordique-a-l
 a-carte/2025-02-07-15-00
END:VEVENT
END:VCALENDAR
