BEGIN:VCALENDAR
VERSION:2.0
PRODID:-//Sundgo2//NONSGML kigkonsult.se iCalcreator 2.30.10//
CALSCALE:GREGORIAN
METHOD:PUBLISH
UID:1003385a-1c1d-44c6-aaba-4d7a2efd91bf
X-WR-CALNAME:iCagenda
X-WR-CALDESC:Event Management Extension for Joomla!
X-WR-RELCALID:3E26604A-50F4-4449-8B3E-E4F4932D05B5
X-WR-TIMEZONE:Europe/Paris
BEGIN:VTIMEZONE
TZID:Europe/Paris
BEGIN:STANDARD
TZNAME:CET
DTSTART:20231029T030000
TZOFFSETFROM:+0200
TZOFFSETTO:+0100
RDATE:20241027T030000
END:STANDARD
BEGIN:DAYLIGHT
TZNAME:CEST
DTSTART:20240331T020000
TZOFFSETFROM:+0100
TZOFFSETTO:+0200
RDATE:20250330T020000
END:DAYLIGHT
END:VTIMEZONE
BEGIN:VEVENT
UID:2f8a6347-4d52-4451-95b7-1102d6cc36c1
DTSTAMP:20260425T212454Z
CATEGORIES:Evènement Club
CLASS:PUBLIC
DESCRIPTION:
DTSTART:20240329T160000Z
DTEND:20240329T160000Z
GEO:+47.690186;+7.13448
LOCATION:Parking Maison des Scouts
ORGANIZER:
SEQUENCE:1
SUMMARY:W.E SPORTIF - Sortie running nature et renfo/muscu 29/02 'Parcours 
 VITA'
TRANSP:OPAQUE
URL:https://sundgo2.fr/index.php/component/icagenda/354-sortie-running-natu
 re-et-renforcement-musculaire-29-02-parcours-vita/2024-03-29-17-00
END:VEVENT
END:VCALENDAR
