BEGIN:VCALENDAR
VERSION:2.0
PRODID:-//Sundgo2//NONSGML kigkonsult.se iCalcreator 2.30.10//
CALSCALE:GREGORIAN
METHOD:PUBLISH
UID:3a3e0053-5a77-4194-a3d4-e6be4f4e8987
X-WR-CALNAME:iCagenda
X-WR-CALDESC:Event Management Extension for Joomla!
X-WR-RELCALID:3E26604A-50F4-4449-8B3E-E4F4932D05B5
X-WR-TIMEZONE:Europe/Paris
BEGIN:VTIMEZONE
TZID:Europe/Paris
BEGIN:STANDARD
TZNAME:CET
DTSTART:20251026T030000
TZOFFSETFROM:+0200
TZOFFSETTO:+0100
RDATE:20261025T030000
END:STANDARD
BEGIN:DAYLIGHT
TZNAME:CEST
DTSTART:20260329T020000
TZOFFSETFROM:+0100
TZOFFSETTO:+0200
RDATE:20270328T020000
END:DAYLIGHT
END:VTIMEZONE
BEGIN:VEVENT
UID:1861e104-f5c2-4272-afb9-fdff31b89a25
DTSTAMP:20260425T103449Z
CATEGORIES:Marche Nordique
CLASS:PUBLIC
DESCRIPTION:
DTSTART:20260422T063000Z
DTEND:20260422T063000Z
GEO:+47.679565;+7.134372
LOCATION:Départ de FALKWILLER
ORGANIZER:
SEQUENCE:1
SUMMARY:MARCHE NORDIQUE SPORTIVE - INSCRIPTIONS par mail: contact@sundgo2.f
 r ou sms à BRAD
TRANSP:OPAQUE
URL:https://sundgo2.fr/index.php/component/icagenda/376-marche-nordique-spo
 rtive/2026-04-22-08-30
END:VEVENT
END:VCALENDAR
