BEGIN:VCALENDAR
VERSION:2.0
PRODID:-//Sundgo2//NONSGML kigkonsult.se iCalcreator 2.30.10//
CALSCALE:GREGORIAN
METHOD:PUBLISH
UID:8c2aaa8f-6b15-4206-ba21-f8d5e11a733d
X-WR-CALNAME:iCagenda
X-WR-CALDESC:Event Management Extension for Joomla!
X-WR-RELCALID:3E26604A-50F4-4449-8B3E-E4F4932D05B5
X-WR-TIMEZONE:Europe/Paris
BEGIN:VTIMEZONE
TZID:Europe/Paris
BEGIN:STANDARD
TZNAME:CET
DTSTART:20241027T030000
TZOFFSETFROM:+0200
TZOFFSETTO:+0100
RDATE:20251026T030000
RDATE:20261025T030000
END:STANDARD
BEGIN:DAYLIGHT
TZNAME:CEST
DTSTART:20250330T020000
TZOFFSETFROM:+0100
TZOFFSETTO:+0200
RDATE:20260329T020000
END:DAYLIGHT
END:VTIMEZONE
BEGIN:VEVENT
UID:4fcdac85-1ad4-49a1-ad2a-ea7b3413076e
DTSTAMP:20260425T231507Z
CATEGORIES:Marche Nordique
CLASS:PUBLIC
DESCRIPTION:
DTSTART:20250912T130000Z
DTEND:20250912T130000Z
GEO:+47.655052;+7.28863
LOCATION:Parking face à la salle polyvalente (un peu plus loin que le stade
  de foot)
ORGANIZER:
SEQUENCE:1
SUMMARY:MARCHE NORDIQUE À LA CARTE  - LUEMSCHWILLER
TRANSP:OPAQUE
URL:https://sundgo2.fr/index.php/planning/evenements/388-marche-nordique-a-
 la-carte-a-definir/2025-09-12-15-00
END:VEVENT
END:VCALENDAR
